BEGIN:VCALENDAR
VERSION:2.0
PRODID:-//Norsk Amatørteaterforbund - ECPv6.15.20//NONSGML v1.0//EN
CALSCALE:GREGORIAN
METHOD:PUBLISH
X-ORIGINAL-URL:https://natf.no
X-WR-CALDESC:Arrangement for Norsk Amatørteaterforbund
REFRESH-INTERVAL;VALUE=DURATION:PT1H
X-Robots-Tag:noindex
X-PUBLISHED-TTL:PT1H
BEGIN:VTIMEZONE
TZID:Europe/Oslo
BEGIN:DAYLIGHT
TZOFFSETFROM:+0100
TZOFFSETTO:+0200
TZNAME:CEST
DTSTART:20140330T010000
END:DAYLIGHT
BEGIN:STANDARD
TZOFFSETFROM:+0200
TZOFFSETTO:+0100
TZNAME:CET
DTSTART:20141026T010000
END:STANDARD
BEGIN:DAYLIGHT
TZOFFSETFROM:+0100
TZOFFSETTO:+0200
TZNAME:CEST
DTSTART:20150329T010000
END:DAYLIGHT
BEGIN:STANDARD
TZOFFSETFROM:+0200
TZOFFSETTO:+0100
TZNAME:CET
DTSTART:20151025T010000
END:STANDARD
BEGIN:DAYLIGHT
TZOFFSETFROM:+0100
TZOFFSETTO:+0200
TZNAME:CEST
DTSTART:20160327T010000
END:DAYLIGHT
BEGIN:STANDARD
TZOFFSETFROM:+0200
TZOFFSETTO:+0100
TZNAME:CET
DTSTART:20161030T010000
END:STANDARD
END:VTIMEZONE
BEGIN:VEVENT
DTSTART;VALUE=DATE:20150827
DTEND;VALUE=DATE:20150831
DTSTAMP:20260425T144950
CREATED:20150113T122031Z
LAST-MODIFIED:20150113T122031Z
UID:1757-1440633600-1440979199@natf.no
SUMMARY:Jentemobbing tema for BærMuDa
DESCRIPTION:BærMuDa Ungdom skal sette opp forestillingen “Den som hvisker lyver” høsten 2015. Stykket handler om jentemobbing og er basert på historier som florerer på Facebook\, Youtube og andre steder på internett. Forestillingen belyser konsekvenser av mobbing\, de ytterste sådan\, og de bruker sterke virkemidler for å få frem vårt budskap. \n“Den som hvisker lyver” settes opp i Sandvika 27. – 30. august.
URL:https://natf.no/event/jentemobbing-tema-baermuda/
CATEGORIES:Teatergruppe forestillinger
END:VEVENT
END:VCALENDAR