BEGIN:VCALENDAR
VERSION:2.0
PRODID:-//Norsk Amatørteaterforbund - ECPv6.15.20//NONSGML v1.0//EN
CALSCALE:GREGORIAN
METHOD:PUBLISH
X-WR-CALNAME:Norsk Amatørteaterforbund
X-ORIGINAL-URL:https://natf.no
X-WR-CALDESC:Arrangement for Norsk Amatørteaterforbund
REFRESH-INTERVAL;VALUE=DURATION:PT1H
X-Robots-Tag:noindex
X-PUBLISHED-TTL:PT1H
BEGIN:VTIMEZONE
TZID:Europe/Oslo
BEGIN:DAYLIGHT
TZOFFSETFROM:+0100
TZOFFSETTO:+0200
TZNAME:CEST
DTSTART:20140330T010000
END:DAYLIGHT
BEGIN:STANDARD
TZOFFSETFROM:+0200
TZOFFSETTO:+0100
TZNAME:CET
DTSTART:20141026T010000
END:STANDARD
BEGIN:DAYLIGHT
TZOFFSETFROM:+0100
TZOFFSETTO:+0200
TZNAME:CEST
DTSTART:20150329T010000
END:DAYLIGHT
BEGIN:STANDARD
TZOFFSETFROM:+0200
TZOFFSETTO:+0100
TZNAME:CET
DTSTART:20151025T010000
END:STANDARD
BEGIN:DAYLIGHT
TZOFFSETFROM:+0100
TZOFFSETTO:+0200
TZNAME:CEST
DTSTART:20160327T010000
END:DAYLIGHT
BEGIN:STANDARD
TZOFFSETFROM:+0200
TZOFFSETTO:+0100
TZNAME:CET
DTSTART:20161030T010000
END:STANDARD
END:VTIMEZONE
BEGIN:VEVENT
DTSTART;VALUE=DATE:20150918
DTEND;VALUE=DATE:20150921
DTSTAMP:20260425T143950
CREATED:20150113T112647Z
LAST-MODIFIED:20150113T112647Z
UID:1740-1442534400-1442793599@natf.no
SUMMARY:Nittedalsungommer gir publikum "Bugsy Malone"
DESCRIPTION:Ungdomsmia i Nittedal Tater er for ungdommer fra ungdomskoletrinnet t.o.m. videregående. Denne gruppa jobber med skuespiller-teknikk\, rolleinnstudering\, manusarbeid\, improvisasjon og stemmebruk. De er med på diverse prosjekter ved siden av sin årlige produksjon. \n\n\nInstruktører: Katrine Vabog og  Jim-Roger Knutsen  \nØving: Mandager kl 19.30-21.00\, Nittedal Ungdomsskole \n\n\nNeste produksjon: “Bugsy Malone” 18. – 20.  September 2015
URL:https://natf.no/event/nittedalsungommer-gir-publikum-bugsy-malone/
CATEGORIES:Teatergruppe forestillinger
END:VEVENT
BEGIN:VEVENT
DTSTART;VALUE=DATE:20150918
DTEND;VALUE=DATE:20150921
DTSTAMP:20260425T143950
CREATED:20150727T080438Z
LAST-MODIFIED:20150727T080438Z
UID:2089-1442534400-1442793599@natf.no
SUMMARY:Teaterdagene 2015
DESCRIPTION:
URL:https://natf.no/event/teaterdagene-2015/
CATEGORIES:NATF hendelser
END:VEVENT
END:VCALENDAR