BEGIN:VCALENDAR
VERSION:2.0
PRODID:-//Norsk Amatørteaterforbund - ECPv6.15.20//NONSGML v1.0//EN
CALSCALE:GREGORIAN
METHOD:PUBLISH
X-WR-CALNAME:Norsk Amatørteaterforbund
X-ORIGINAL-URL:https://natf.no
X-WR-CALDESC:Arrangement for Norsk Amatørteaterforbund
REFRESH-INTERVAL;VALUE=DURATION:PT1H
X-Robots-Tag:noindex
X-PUBLISHED-TTL:PT1H
BEGIN:VTIMEZONE
TZID:Europe/Oslo
BEGIN:DAYLIGHT
TZOFFSETFROM:+0100
TZOFFSETTO:+0200
TZNAME:CEST
DTSTART:20140330T010000
END:DAYLIGHT
BEGIN:STANDARD
TZOFFSETFROM:+0200
TZOFFSETTO:+0100
TZNAME:CET
DTSTART:20141026T010000
END:STANDARD
BEGIN:DAYLIGHT
TZOFFSETFROM:+0100
TZOFFSETTO:+0200
TZNAME:CEST
DTSTART:20150329T010000
END:DAYLIGHT
BEGIN:STANDARD
TZOFFSETFROM:+0200
TZOFFSETTO:+0100
TZNAME:CET
DTSTART:20151025T010000
END:STANDARD
BEGIN:DAYLIGHT
TZOFFSETFROM:+0100
TZOFFSETTO:+0200
TZNAME:CEST
DTSTART:20160327T010000
END:DAYLIGHT
BEGIN:STANDARD
TZOFFSETFROM:+0200
TZOFFSETTO:+0100
TZNAME:CET
DTSTART:20161030T010000
END:STANDARD
END:VTIMEZONE
BEGIN:VEVENT
DTSTART;VALUE=DATE:20151008
DTEND;VALUE=DATE:20151019
DTSTAMP:20260425T125827
CREATED:20150428T182010Z
LAST-MODIFIED:20150428T182010Z
UID:1961-1444262400-1445212799@natf.no
SUMMARY:Familiemusikalen Oliver! på Lillestrøm
DESCRIPTION:Skedsmo amatørteater og Lillestrøm Kultursenter setter opp familiemusikalen «Oliver!» med premiere 8.oktober. Spilles i Teatersalen på Lillestrøm Kultursenter til og med 18. oktober. \nSkedsmo Amatørteater har drevet amatørteater i Skedsmo i godt over 20 år. Fjorårets oppsetning av “Sound of Music” ble en stor suksess\, med terningkast 6 i Romerikes Blad\, og nesten fulle hus i to uker. Derfor er det klart for en musikal også i år! Musikalen er basert på historien om Oliver Twist\, av Charles Dickens. Her møter du elleve år gamle Torjus A. Sandem Edvardsen i rollen som Oliver\, som sammen med 30 andre skuespillere sørger for en gripende og fengende teateropplevelse! \nBilletter kjøper du her: http://www.lillestrom-kultursenter.no/omtale/?s=g5jpj4 \nMusikalen er skrevet av Lionel Bart\, i et arrangement av The Southbrook Group og Cameron Mackintosh Ltd. \nSpilleplan\ntor 8.okt 18:00\nfre 9.okt 18:00\nlør 10.okt 15:00\nsøn 11.okt 14:00\nsøn 11.okt 18:00\ntor 15.okt 18:00\nfre 16.okt 18:00\nlør 17.okt 15:00\nsøn 18.okt 14:00\nsøn 18.okt 18:00 \nRegi: Magnus Skjervold Sanginstudering: Charlotte Wilhelmsen Koreografi: Guro Karijord Kapellmester: Ole-Christian Rydland Regiassistent/produksjonsassistent: Carl-Andre Johansson Scenemester: John F. Johansen Produsent: Robert Skrolsvik \nROLLER (Kun noen deler av hele ensemblet) Oliver Twist: Torjus Aragorn Sandem Edvardsen / Fagin: Kristian Bakke Kilde / Dodger: Helene Snellingen / Nancy: Madelen Engebretsen / Bet: Sunniva Nøsterberget / Bill Sikes: Lars Christian Wahlberg / Herr Buldre: Geir-Ove Bredesen / Enkefru Skrulle: Anna Braathen Sælen / Herr Surbær: Espen Monsrud / Fru Surbær: Lill-Torunn Kilde / Charlotte: Vilma Brandsæter Vik / Nora: Jenny Hagrim / Charity: Thale Evenrud
URL:https://natf.no/event/familiemusikalen-oliver-pa-lillestrom/
CATEGORIES:Teatergruppe forestillinger
END:VEVENT
END:VCALENDAR