BEGIN:VCALENDAR
VERSION:2.0
PRODID:-//Norsk Amatørteaterforbund - ECPv6.15.20//NONSGML v1.0//EN
CALSCALE:GREGORIAN
METHOD:PUBLISH
X-WR-CALNAME:Norsk Amatørteaterforbund
X-ORIGINAL-URL:https://natf.no
X-WR-CALDESC:Arrangement for Norsk Amatørteaterforbund
REFRESH-INTERVAL;VALUE=DURATION:PT1H
X-Robots-Tag:noindex
X-PUBLISHED-TTL:PT1H
BEGIN:VTIMEZONE
TZID:Europe/Oslo
BEGIN:DAYLIGHT
TZOFFSETFROM:+0100
TZOFFSETTO:+0200
TZNAME:CEST
DTSTART:20140330T010000
END:DAYLIGHT
BEGIN:STANDARD
TZOFFSETFROM:+0200
TZOFFSETTO:+0100
TZNAME:CET
DTSTART:20141026T010000
END:STANDARD
BEGIN:DAYLIGHT
TZOFFSETFROM:+0100
TZOFFSETTO:+0200
TZNAME:CEST
DTSTART:20150329T010000
END:DAYLIGHT
BEGIN:STANDARD
TZOFFSETFROM:+0200
TZOFFSETTO:+0100
TZNAME:CET
DTSTART:20151025T010000
END:STANDARD
BEGIN:DAYLIGHT
TZOFFSETFROM:+0100
TZOFFSETTO:+0200
TZNAME:CEST
DTSTART:20160327T010000
END:DAYLIGHT
BEGIN:STANDARD
TZOFFSETFROM:+0200
TZOFFSETTO:+0100
TZNAME:CET
DTSTART:20161030T010000
END:STANDARD
END:VTIMEZONE
BEGIN:VEVENT
DTSTART;VALUE=DATE:20151024
DTEND;VALUE=DATE:20151101
DTSTAMP:20260424T182741
CREATED:20150812T080636Z
LAST-MODIFIED:20150812T080636Z
UID:2107-1445644800-1446335999@natf.no
SUMMARY:Teaterkråkene med Olsenbanden
DESCRIPTION:Teaterkråkene i Moss spiller “Olsenbanden jr. på Cirkus” fra 24. oktober.
URL:https://natf.no/event/teaterkrakene-med-olsenbanen/
CATEGORIES:Teatergruppe forestillinger
END:VEVENT
END:VCALENDAR