BEGIN:VCALENDAR
VERSION:2.0
PRODID:-//Norsk Amatørteaterforbund - ECPv6.15.20//NONSGML v1.0//EN
CALSCALE:GREGORIAN
METHOD:PUBLISH
X-ORIGINAL-URL:https://natf.no
X-WR-CALDESC:Arrangement for Norsk Amatørteaterforbund
REFRESH-INTERVAL;VALUE=DURATION:PT1H
X-Robots-Tag:noindex
X-PUBLISHED-TTL:PT1H
BEGIN:VTIMEZONE
TZID:Europe/Oslo
BEGIN:DAYLIGHT
TZOFFSETFROM:+0100
TZOFFSETTO:+0200
TZNAME:CEST
DTSTART:20140330T010000
END:DAYLIGHT
BEGIN:STANDARD
TZOFFSETFROM:+0200
TZOFFSETTO:+0100
TZNAME:CET
DTSTART:20141026T010000
END:STANDARD
BEGIN:DAYLIGHT
TZOFFSETFROM:+0100
TZOFFSETTO:+0200
TZNAME:CEST
DTSTART:20150329T010000
END:DAYLIGHT
BEGIN:STANDARD
TZOFFSETFROM:+0200
TZOFFSETTO:+0100
TZNAME:CET
DTSTART:20151025T010000
END:STANDARD
BEGIN:DAYLIGHT
TZOFFSETFROM:+0100
TZOFFSETTO:+0200
TZNAME:CEST
DTSTART:20160327T010000
END:DAYLIGHT
BEGIN:STANDARD
TZOFFSETFROM:+0200
TZOFFSETTO:+0100
TZNAME:CET
DTSTART:20161030T010000
END:STANDARD
END:VTIMEZONE
BEGIN:VEVENT
DTSTART;VALUE=DATE:20151028
DTEND;VALUE=DATE:20151108
DTSTAMP:20260424T181632
CREATED:20150905T103720Z
LAST-MODIFIED:20150905T103720Z
UID:2153-1445990400-1446940799@natf.no
SUMMARY:Riskarkrevy – en humormix
DESCRIPTION:Riskarevyen er i full gang med forberedelser til årets revy «HommerSÅG du den komma». «HommerSÅG du den komma?»\, inneholder en blanding av verbale nummer\, musikalske innslag\, med hovedvekt på humor og ablegøyer. Riskarevyen er også akkompagnert av et orkester som består av 4 erfarne musikere\, ledet av Stig Morgen Kristoffersen. Instruktør er Rune Bjerga. \nPremiere 28.oktober og forestillinger 30. og 31. oktober\, 6. og 7. november alle kl 19:30 \nForestillingene blir i Betel sine lokaler på Hommersåk.
URL:https://natf.no/event/riskarkrevy-en-humormix/
CATEGORIES:Teatergruppe forestillinger
END:VEVENT
BEGIN:VEVENT
DTSTART;VALUE=DATE:20151029
DTEND;VALUE=DATE:20151102
DTSTAMP:20260424T181632
CREATED:20150428T164447Z
LAST-MODIFIED:20150428T164447Z
UID:1948-1446076800-1446422399@natf.no
SUMMARY:Pippilotta til Nittedal
DESCRIPTION:Vi har lånt oss en “gammel” Pippi fra Lillehammer for å illustrere.\nPippi Langstrømpe kommer til Nittedal Ungdomsskole (Samfunnssalen) 29.oktober-1.november 2015 i en oppsetning med Nittedal Teater. Regi: Lene Hagen \n\n \n\n\n\n\nPippi (Pippilotta Viktualia Rullgardina Chrysmynta Efraimsdatter Langstrømpe)\, Herr Nilsson og Lille Gubban kommer til Nittedal og har med seg Tommy og Annika på nye eventyr
URL:https://natf.no/event/pippilotta-til-nittedal/
CATEGORIES:Teatergruppe forestillinger
END:VEVENT
END:VCALENDAR