BEGIN:VCALENDAR
VERSION:2.0
PRODID:-//Norsk Amatørteaterforbund - ECPv6.15.20//NONSGML v1.0//EN
CALSCALE:GREGORIAN
METHOD:PUBLISH
X-ORIGINAL-URL:https://natf.no
X-WR-CALDESC:Arrangement for Norsk Amatørteaterforbund
REFRESH-INTERVAL;VALUE=DURATION:PT1H
X-Robots-Tag:noindex
X-PUBLISHED-TTL:PT1H
BEGIN:VTIMEZONE
TZID:Europe/Oslo
BEGIN:DAYLIGHT
TZOFFSETFROM:+0100
TZOFFSETTO:+0200
TZNAME:CEST
DTSTART:20140330T010000
END:DAYLIGHT
BEGIN:STANDARD
TZOFFSETFROM:+0200
TZOFFSETTO:+0100
TZNAME:CET
DTSTART:20141026T010000
END:STANDARD
BEGIN:DAYLIGHT
TZOFFSETFROM:+0100
TZOFFSETTO:+0200
TZNAME:CEST
DTSTART:20150329T010000
END:DAYLIGHT
BEGIN:STANDARD
TZOFFSETFROM:+0200
TZOFFSETTO:+0100
TZNAME:CET
DTSTART:20151025T010000
END:STANDARD
BEGIN:DAYLIGHT
TZOFFSETFROM:+0100
TZOFFSETTO:+0200
TZNAME:CEST
DTSTART:20160327T010000
END:DAYLIGHT
BEGIN:STANDARD
TZOFFSETFROM:+0200
TZOFFSETTO:+0100
TZNAME:CET
DTSTART:20161030T010000
END:STANDARD
END:VTIMEZONE
BEGIN:VEVENT
DTSTART;VALUE=DATE:20151119
DTEND;VALUE=DATE:20151204
DTSTAMP:20260424T182659
CREATED:20150302T162725Z
LAST-MODIFIED:20150302T162725Z
UID:1842-1447891200-1449187199@natf.no
SUMMARY:Reisen til Julestjernen på Lillehammer
DESCRIPTION:Lillehammer Amatørteater har begynt arbeidet med “Reisen til julestjernen” av Sverre Brandt. Musikken er av Johan Halvorsen. Det blir premiere 19. november. \nRegissør er Carol Kvande.\nProdusent er Nina Thommessen. \nDe starter opp med informasjonsmøte på Søre Ål skole mandag 9. mars 2015 klokken 18:00.  Møtet er for både store og små skuespillere\, foresatte til små skuespillere og alle som vil være med i produksjonen på andre måter (kostymer\, kulisser\, sminke etc.).
URL:https://natf.no/event/reisen-til-julestjernen-pa-lillehammer/
CATEGORIES:Teatergruppe forestillinger
END:VEVENT
BEGIN:VEVENT
DTSTART;VALUE=DATE:20151120
DTEND;VALUE=DATE:20151130
DTSTAMP:20260424T182659
CREATED:20150812T080342Z
LAST-MODIFIED:20150812T080342Z
UID:2104-1447977600-1448841599@natf.no
SUMMARY:Undheim serverer Disney
DESCRIPTION:Undheim ShowTeater på Jæren serverer en reise gjennom 10 av Disneys kjente musikaler og filmer fra 20. november. \nUndheim ShowTeater\, som de nå heter\, har blitt bekymret over at noen kunne tro at revy er noe som de hadde i «gamle dager». Men så har de hatt opptelling\, som viste at av 44 oppsetninger på 26 år har kun 6 oppsetninger vært revy\, sist var i 2006! \nDerfor blir det nå SHOW! \nUndheim satser ambisiøst\, kanskje på kanten av det som er realistisk i et slikt lokale som de har. Men de lover å fikse det! Publikum skal i alle fall få en forestilling de sent vil glemme! \nForhåndsbestilling kan gjøres   til epost: undheim@revyteater.com\nForestilling og julebord kr. 600\,- (fredag/lørdag 2o./21. og 27./28. november)\nForestilling: kr. 300\,- (25.\, 26. 27. og 29. november) \n 
URL:https://natf.no/event/undheim-serverer-disney/
CATEGORIES:Teatergruppe forestillinger
END:VEVENT
BEGIN:VEVENT
DTSTART;VALUE=DATE:20151120
DTEND;VALUE=DATE:20151130
DTSTAMP:20260424T182659
CREATED:20151101T112823Z
LAST-MODIFIED:20151101T112823Z
UID:2269-1447977600-1448841599@natf.no
SUMMARY:Tornerose i Bjørkelangen-tapning
DESCRIPTION:Bjørkelangen Teaterlag spiller opp hele ti forestillinger av «Tornerose» med manus og regi av Bjørn E. Pedersen med premiere fredag 20.11.15 \nSpillested er Bjørkelangen ungdomsskole og billetter kan kjøpes på Libris Bjørkelangen\, eller ved døren. Pris kr 150\,- \nSpilleplan:\nfre 20.11 kl 183o\nlør 21.11 kl 13oo og kl 17oo\nsøn 22.11 kl 13oo og kl 17oo\ntors 26.11 kl 183o\nfre 27.11 kl 183o\nlør 28.11 kl 13oo og kl 17oo\nsøn 29.11 kl 14oo \n 
URL:https://natf.no/event/tornerose-i-bjorkelangen-tapning/
CATEGORIES:Teatergruppe forestillinger
END:VEVENT
END:VCALENDAR