BEGIN:VCALENDAR
VERSION:2.0
PRODID:-//Norsk Amatørteaterforbund - ECPv6.15.20//NONSGML v1.0//EN
CALSCALE:GREGORIAN
METHOD:PUBLISH
X-WR-CALNAME:Norsk Amatørteaterforbund
X-ORIGINAL-URL:https://natf.no
X-WR-CALDESC:Arrangement for Norsk Amatørteaterforbund
REFRESH-INTERVAL;VALUE=DURATION:PT1H
X-Robots-Tag:noindex
X-PUBLISHED-TTL:PT1H
BEGIN:VTIMEZONE
TZID:Europe/Oslo
BEGIN:DAYLIGHT
TZOFFSETFROM:+0100
TZOFFSETTO:+0200
TZNAME:CEST
DTSTART:20150329T010000
END:DAYLIGHT
BEGIN:STANDARD
TZOFFSETFROM:+0200
TZOFFSETTO:+0100
TZNAME:CET
DTSTART:20151025T010000
END:STANDARD
BEGIN:DAYLIGHT
TZOFFSETFROM:+0100
TZOFFSETTO:+0200
TZNAME:CEST
DTSTART:20160327T010000
END:DAYLIGHT
BEGIN:STANDARD
TZOFFSETFROM:+0200
TZOFFSETTO:+0100
TZNAME:CET
DTSTART:20161030T010000
END:STANDARD
BEGIN:DAYLIGHT
TZOFFSETFROM:+0100
TZOFFSETTO:+0200
TZNAME:CEST
DTSTART:20170326T010000
END:DAYLIGHT
BEGIN:STANDARD
TZOFFSETFROM:+0200
TZOFFSETTO:+0100
TZNAME:CET
DTSTART:20171029T010000
END:STANDARD
END:VTIMEZONE
BEGIN:VEVENT
DTSTART;VALUE=DATE:20160115
DTEND;VALUE=DATE:20160118
DTSTAMP:20260423T093323
CREATED:20151206T180738Z
LAST-MODIFIED:20151206T180738Z
UID:2318-1452816000-1453075199@natf.no
SUMMARY:"Krok" er tittelen når Nttedal Teater spiller Peter Pan.
DESCRIPTION:Det er gruppa deres “Ungdomssmia 2” som viser fortsettelsen på Peter Pan 15.-17.januar på Nittedal Ungdomsskole (Samfunnsalen) \nRegi: Anette Finnanger og Vilde Sævik Hansen \nNittedal Teater ble for første gang etablert i 1994 og har de siste årene hatt en betydelig vekst både i medlemsmasse\, instruktører\, stab\, publikumsbesøk og produksjoner – til glede for både store og små. De har i dag tre driftsansatte\, femten instruktører og en stor produksjonstab. \nTeatersmia er Nittedal Teaters  barne- og ungdomsteater\, med nærmere tohundre medlemmer fordelt på åtte medlemsgrupper som hver jobber mot én produksjon i året. Gruppene ledes av instruktører som alle har relevant arbeidserfaring/utdanning.
URL:https://natf.no/event/krok-er-tittelen-nar-nttedal-teater-spiller-peter-pan/
CATEGORIES:Teatergruppe forestillinger
END:VEVENT
END:VCALENDAR