BEGIN:VCALENDAR
VERSION:2.0
PRODID:-//Norsk Amatørteaterforbund - ECPv6.15.20//NONSGML v1.0//EN
CALSCALE:GREGORIAN
METHOD:PUBLISH
X-WR-CALNAME:Norsk Amatørteaterforbund
X-ORIGINAL-URL:https://natf.no
X-WR-CALDESC:Arrangement for Norsk Amatørteaterforbund
REFRESH-INTERVAL;VALUE=DURATION:PT1H
X-Robots-Tag:noindex
X-PUBLISHED-TTL:PT1H
BEGIN:VTIMEZONE
TZID:Europe/Oslo
BEGIN:DAYLIGHT
TZOFFSETFROM:+0100
TZOFFSETTO:+0200
TZNAME:CEST
DTSTART:20150329T010000
END:DAYLIGHT
BEGIN:STANDARD
TZOFFSETFROM:+0200
TZOFFSETTO:+0100
TZNAME:CET
DTSTART:20151025T010000
END:STANDARD
BEGIN:DAYLIGHT
TZOFFSETFROM:+0100
TZOFFSETTO:+0200
TZNAME:CEST
DTSTART:20160327T010000
END:DAYLIGHT
BEGIN:STANDARD
TZOFFSETFROM:+0200
TZOFFSETTO:+0100
TZNAME:CET
DTSTART:20161030T010000
END:STANDARD
BEGIN:DAYLIGHT
TZOFFSETFROM:+0100
TZOFFSETTO:+0200
TZNAME:CEST
DTSTART:20170326T010000
END:DAYLIGHT
BEGIN:STANDARD
TZOFFSETFROM:+0200
TZOFFSETTO:+0100
TZNAME:CET
DTSTART:20171029T010000
END:STANDARD
END:VTIMEZONE
BEGIN:VEVENT
DTSTART;VALUE=DATE:20160217
DTEND;VALUE=DATE:20160221
DTSTAMP:20260420T075620
CREATED:20151101T181423Z
LAST-MODIFIED:20151101T181423Z
UID:2275-1455667200-1456012799@natf.no
SUMMARY:Kongsgårdmoen setter opp Disney
DESCRIPTION:Kongsgårdmoen barne- og ungdomsteater inviterer publikum med til Disneys fortryllende verden når de setter opp musikalen Skjønnheten og Udyret 17. – 20. februar.\nDenne klassiske historien handler om Belle\, en ung kvinne i en liten landsby  i provinsen\, og Udyret\, som egentlig er en ung prins som er blitt forhekset. Hvis Udyret kan lære seg å elske og bli elsket\, vil forbannelsen bli brutt\, og han vil bli forvandlet til slik han opprinnelig var. Men det er kort tid igjen ut. Hvis Udyret ikke endrer seg snart\, vil han og hans hjem være dømt for all evighet. Dette er en forestilling for hele familien. \n 
URL:https://natf.no/event/kongsgardmoen-setter-opp-disney/
CATEGORIES:Teatergruppe forestillinger
END:VEVENT
END:VCALENDAR