BEGIN:VCALENDAR
VERSION:2.0
PRODID:-//Norsk Amatørteaterforbund - ECPv6.15.20//NONSGML v1.0//EN
CALSCALE:GREGORIAN
METHOD:PUBLISH
X-ORIGINAL-URL:https://natf.no
X-WR-CALDESC:Arrangement for Norsk Amatørteaterforbund
REFRESH-INTERVAL;VALUE=DURATION:PT1H
X-Robots-Tag:noindex
X-PUBLISHED-TTL:PT1H
BEGIN:VTIMEZONE
TZID:Europe/Oslo
BEGIN:DAYLIGHT
TZOFFSETFROM:+0100
TZOFFSETTO:+0200
TZNAME:CEST
DTSTART:20150329T010000
END:DAYLIGHT
BEGIN:STANDARD
TZOFFSETFROM:+0200
TZOFFSETTO:+0100
TZNAME:CET
DTSTART:20151025T010000
END:STANDARD
BEGIN:DAYLIGHT
TZOFFSETFROM:+0100
TZOFFSETTO:+0200
TZNAME:CEST
DTSTART:20160327T010000
END:DAYLIGHT
BEGIN:STANDARD
TZOFFSETFROM:+0200
TZOFFSETTO:+0100
TZNAME:CET
DTSTART:20161030T010000
END:STANDARD
BEGIN:DAYLIGHT
TZOFFSETFROM:+0100
TZOFFSETTO:+0200
TZNAME:CEST
DTSTART:20170326T010000
END:DAYLIGHT
BEGIN:STANDARD
TZOFFSETFROM:+0200
TZOFFSETTO:+0100
TZNAME:CET
DTSTART:20171029T010000
END:STANDARD
END:VTIMEZONE
BEGIN:VEVENT
DTSTART;VALUE=DATE:20160407
DTEND;VALUE=DATE:20160417
DTSTAMP:20260420T000429
CREATED:20160412T111559Z
LAST-MODIFIED:20160412T111559Z
UID:2481-1459987200-1460851199@natf.no
SUMMARY:Kongsberg Teaterlag viser «CHARLEYS TANTE» i april!
DESCRIPTION:Kongsberg Teaterlag viser vårens villeste forviklinger\, forvekslinger\, forventninger\, forelskelser\, forretninger og forferdelser. Alt dette\, og mer til\, får du i den klassiske komedien «Charleys Tante» i Sølvsalen på Kongsberg Musikkteater i april 2016. Et opplagt ensemble vil ta deg med til de glade 1920-åra for å treffe pyntelige piker\, våryre studenter\, aksjemeglere\, storviltjegere\, mystiske tanter og menn i kjoler. \n«Et tantesprang for teaterlaget!» uttaler regissør Stein O. Rasmussen\, «Ingen kan være bekjent av å ha gått glipp av dette!» \n\nForestillingene spilles i Sølvsalen\, Kongsberg Musikkteater i Krona\nTorsdag 7. april kl. 19\nFredag 8. april kl. 19\nLørdag 9. april kl. 15 og 18\nOnsdag 13. april kl. 19\nTorsdag 14. april kl. 19\nFredag 15. april kl. 19\nLørdag 16. april kl. 15 og 18 \nTeaterbillett som gave: Kort til gavebilletter følger gratis ved kjøp i kinoens billettutsalg. \nBilletter á kr 260 (inkl. avg.) i Krona kino\, i billettluka eller som nettbillett her
URL:https://natf.no/event/kongsberg-teaterlag-viser-charleys-tante-i-april/
CATEGORIES:Teatergruppe forestillinger
END:VEVENT
END:VCALENDAR