BEGIN:VCALENDAR
VERSION:2.0
PRODID:-//Norsk Amatørteaterforbund - ECPv6.15.20//NONSGML v1.0//EN
CALSCALE:GREGORIAN
METHOD:PUBLISH
X-ORIGINAL-URL:https://natf.no
X-WR-CALDESC:Arrangement for Norsk Amatørteaterforbund
REFRESH-INTERVAL;VALUE=DURATION:PT1H
X-Robots-Tag:noindex
X-PUBLISHED-TTL:PT1H
BEGIN:VTIMEZONE
TZID:Europe/Oslo
BEGIN:DAYLIGHT
TZOFFSETFROM:+0100
TZOFFSETTO:+0200
TZNAME:CEST
DTSTART:20150329T010000
END:DAYLIGHT
BEGIN:STANDARD
TZOFFSETFROM:+0200
TZOFFSETTO:+0100
TZNAME:CET
DTSTART:20151025T010000
END:STANDARD
BEGIN:DAYLIGHT
TZOFFSETFROM:+0100
TZOFFSETTO:+0200
TZNAME:CEST
DTSTART:20160327T010000
END:DAYLIGHT
BEGIN:STANDARD
TZOFFSETFROM:+0200
TZOFFSETTO:+0100
TZNAME:CET
DTSTART:20161030T010000
END:STANDARD
BEGIN:DAYLIGHT
TZOFFSETFROM:+0100
TZOFFSETTO:+0200
TZNAME:CEST
DTSTART:20170326T010000
END:DAYLIGHT
BEGIN:STANDARD
TZOFFSETFROM:+0200
TZOFFSETTO:+0100
TZNAME:CET
DTSTART:20171029T010000
END:STANDARD
END:VTIMEZONE
BEGIN:VEVENT
DTSTART;VALUE=DATE:20160505
DTEND;VALUE=DATE:20160506
DTSTAMP:20260420T044619
CREATED:20160408T095613Z
LAST-MODIFIED:20160408T095613Z
UID:2476-1462406400-1462492799@natf.no
SUMMARY:Innlandsmesterskap og regionale uttak til NM i Teatersport på Hamar!
DESCRIPTION:HAMAR TEATERSPORTLAUG\nhar gleden av å invitere til \nInnlandsmesterskap i TEATERSPORT 2016 \nSTED: Hamar Teater\, Strandgata 23\nTID: TORSDAG 5.mai  PÅ SELVESTE  ANJAZZ OG HIMMELSPRETT!\nPÅMELDINGSFRIST: 1.mai \nPROGRAM:\nKl. 13.30: Innveiing av de deltagende lag (neida\, det holder med registrering!)\nKl. 14.00:  Obligatorisk workshop for deltagende lag\n(Da må alle være på plass! Kursleder og Konferansier: TBA\, men det blir sikkert en/ei morsom jævel!)\nKl. Da og da: Vi avvikler pauser og bespisning etter nærmere behovsregistrering\nKl. 17.30 – Øvelsene børjar! \n  \nVi har gjort oss til en del av ANJAZZ. Teatersport er jo IMPROVISASJON og hva passer vell bedre enn å avholde mesterskapet på en Jazz-festival!? Les mer om festivalen på www.anjazz.no – og heng gjerne med på festivalen!  Vi skriver på sidene: «Dyktige og (gjerne!) mindre dyktige aktører fra hele Hedmark\, Oppland og Buskerud møtes til dyst under mottoet: ”Sitt Ikke Stille\, Kom Frem\, Og Drit Deg Skikkelig Ut!” \n  \nVi sørger for både servering og reisestøtte\, femhundre kroner (Drivstoff-kvitteringer gjelder!)\, til de første fire utabygds som melder seg på! \nVinnerlaget går direkte videre til Norgesmesterskapet i Teatersport 2016\, som arrangeres under Teaterdagene på Lillehammer  15.- 18. september. \nDet er en forutsetning for påmelding at laget også er innstilt på å gå videre til nasjonalt mesterskap. \n  \nReglene som følges er iht. Keith Johnstones ”Improvisasjon og Teatersport”.\nNedre aldersgrense er 16 år\, med maksimum 4 og minimum 3 deltakere pr. lag. \n  \nmed usportslig hilsen \nHamar Teatersportlaug\nv/Anders Kippersund\nOm noe er uklart (sannsynligvis!)\, ta kontakt på tlf. 41514838 /anders@kippersund.no \n  \n  \n  \nINNLANDSMESTERSKAPET \nI TEATERSPORT 2016 \n  \nPåmeldingsskjema: \n  \nJa\, vi ønsker å delta på Innlandsmesterskapet \nPåmeldingen er bindende. \n  \nGruppens navn:     _________________________________ \n  \nDeltagernes navn: \n\n    ____________________________________\n    ____________________________________\n____________________________________\n    ____________________________________\n\n  \nKontaktperson \nNavn: \nAdresse: \nTlf: \nE-post: \n  \nHvis vi vinner Innlandsmesterskapet lover vi på tro og ære\, ti fingre i halsen og andre steder du ikke vil tenke på\, at vi stiller på NM i Teatersport på Teaterdagene på Lillehammer 15.-18 september 2016. \nSå sant hjelpe oss\, Den Store Improvisator!
URL:https://natf.no/event/innlandsmesterskap-og-regionale-uttak-til-nm-i-teatersport-pa-hamar/
END:VEVENT
END:VCALENDAR