BEGIN:VCALENDAR
VERSION:2.0
PRODID:-//Norsk Amatørteaterforbund - ECPv6.15.20//NONSGML v1.0//EN
CALSCALE:GREGORIAN
METHOD:PUBLISH
X-WR-CALNAME:Norsk Amatørteaterforbund
X-ORIGINAL-URL:https://natf.no
X-WR-CALDESC:Arrangement for Norsk Amatørteaterforbund
REFRESH-INTERVAL;VALUE=DURATION:PT1H
X-Robots-Tag:noindex
X-PUBLISHED-TTL:PT1H
BEGIN:VTIMEZONE
TZID:Europe/Oslo
BEGIN:DAYLIGHT
TZOFFSETFROM:+0100
TZOFFSETTO:+0200
TZNAME:CEST
DTSTART:20250330T010000
END:DAYLIGHT
BEGIN:STANDARD
TZOFFSETFROM:+0200
TZOFFSETTO:+0100
TZNAME:CET
DTSTART:20251026T010000
END:STANDARD
BEGIN:DAYLIGHT
TZOFFSETFROM:+0100
TZOFFSETTO:+0200
TZNAME:CEST
DTSTART:20260329T010000
END:DAYLIGHT
BEGIN:STANDARD
TZOFFSETFROM:+0200
TZOFFSETTO:+0100
TZNAME:CET
DTSTART:20261025T010000
END:STANDARD
BEGIN:DAYLIGHT
TZOFFSETFROM:+0100
TZOFFSETTO:+0200
TZNAME:CEST
DTSTART:20270328T010000
END:DAYLIGHT
BEGIN:STANDARD
TZOFFSETFROM:+0200
TZOFFSETTO:+0100
TZNAME:CET
DTSTART:20271031T010000
END:STANDARD
END:VTIMEZONE
BEGIN:VEVENT
DTSTART;TZID=Europe/Oslo:20260416T180000
DTEND;TZID=Europe/Oslo:20260426T160000
DTSTAMP:20260424T143553
CREATED:20260211T085324Z
LAST-MODIFIED:20260211T085324Z
UID:8253-1776362400-1777219200@natf.no
SUMMARY:SANDVIKA BARNE- OG UNGDOMSTEATER: Charlie og sjokoladefabrikken
DESCRIPTION:Charlie og sjokoladefabrikken presenteres av Sandvika barne- og ungdomsteater! Bli med på den forrykende familiemusikalen – basert på romanen av Roald Dahl. Den verdenskjente sjokolademakeren Willy Wonka åpner porten til hans mystiske fabrikk\, men bare for noen heldige utvalgte. Charlie Bucket og fire andre gullbillettvinnere begir seg ut på en reise gjennom Wonkas fantasiverden\, med sjokoladefosser\, nøttesorteringsekorn og den store glassheisen. \n  \nForestillingen spilles i Sandvika Teater 16\, 17\, 18\, 19\, 21\, 22\, 23\, 24\, 25\, & 26. april\, 2026.
URL:https://natf.no/event/sandvika-barne-og-ungdomsteater-charlie-og-sjokoladefabrikken/
LOCATION:Sandvika Teater
ATTACH;FMTTYPE=image/jpeg:https://natf.no/wp-content/uploads/2026/02/Charlie_og_sjokoladefabrikken_SBUT_plakat-scaled.jpg
END:VEVENT
BEGIN:VEVENT
DTSTART;TZID=Europe/Oslo:20260424T180000
DTEND;TZID=Europe/Oslo:20260425T190000
DTSTAMP:20260424T143553
CREATED:20260316T100726Z
LAST-MODIFIED:20260316T100726Z
UID:8286-1777053600-1777143600@natf.no
SUMMARY:SJIRAFFEN KULTUR- OG KOMPETANSESENTER: Sjiraffenfestivalen 2026
DESCRIPTION:Sjiraffen Festivalen 2026 \nVelkommen til Sjiraffen festival 2026\nEn inkluderende festival fylt med teater\, dans\, musikk\, kunst og aktiviteter! \nFredag 24. april og lørdag 25. april.\nSted: Kultursenteret ISAK\nBilletter: https://sjiraffen.hoopla.no/event/947682409/?utm_medium=search&utm_source=hoopla.no \nÅrets tema er SAMMEN MOT UTENFORSKAP\nFestivalen vi ha fokus på samhold\, inkludering og at alle kan være seg selv. Du skal få oppleve alle de unike talentene som finnes på Sjiraffen og i våre gjestegrupper! \nGruppene har i år fått utfordringen å lage visninger i mange ulike scenske sjangere og det blir også utstilling og kunstneriske overrraskelser. \nPROGRAM \nFredag:\n18.00 Festivalåpning og kunstutstilling\n19.00 Forestilling i amfisalen med kor og teater \nLørdag:\n14.00 Forestilling i amfisalen med musikk\, teater og film\n15.30 Konsert i kaféen og aktiviteter\n17.00 Forestilling i amfisalen med dans og teater\n19.00 Konsert i kaféen \nSjiraffen Kultur- og kompetansesenter er en selvstendig kulturorganisasjon med tilrettelagte kunst- og kulturtilbud for utviklingshemmede barn\, ungdom og voksne. Vi holder primært til i Trondheim\, men tilbyr også kurs og underholdning utenfor hjemkommunen. Vi har flere teatergrupper\, band\, kor\, instrumentundervisning\, danseprosjekter\, og flere små prosjekter som settes i gang i løpet av et år.
URL:https://natf.no/event/sjiraffen-kultur-og-kompetansesenter-sjiraffenfestivalen-2026/
LOCATION:Kultursenteret ISAK
CATEGORIES:Teatergruppe forestillinger
ATTACH;FMTTYPE=image/png:https://natf.no/wp-content/uploads/2026/03/Festival-26-plakat.png
END:VEVENT
END:VCALENDAR