BEGIN:VCALENDAR
VERSION:2.0
PRODID:-//Norsk Amatørteaterforbund - ECPv6.15.20//NONSGML v1.0//EN
CALSCALE:GREGORIAN
METHOD:PUBLISH
X-WR-CALNAME:Norsk Amatørteaterforbund
X-ORIGINAL-URL:https://natf.no
X-WR-CALDESC:Arrangement for Norsk Amatørteaterforbund
REFRESH-INTERVAL;VALUE=DURATION:PT1H
X-Robots-Tag:noindex
X-PUBLISHED-TTL:PT1H
BEGIN:VTIMEZONE
TZID:Europe/Oslo
BEGIN:DAYLIGHT
TZOFFSETFROM:+0100
TZOFFSETTO:+0200
TZNAME:CEST
DTSTART:20250330T010000
END:DAYLIGHT
BEGIN:STANDARD
TZOFFSETFROM:+0200
TZOFFSETTO:+0100
TZNAME:CET
DTSTART:20251026T010000
END:STANDARD
BEGIN:DAYLIGHT
TZOFFSETFROM:+0100
TZOFFSETTO:+0200
TZNAME:CEST
DTSTART:20260329T010000
END:DAYLIGHT
BEGIN:STANDARD
TZOFFSETFROM:+0200
TZOFFSETTO:+0100
TZNAME:CET
DTSTART:20261025T010000
END:STANDARD
BEGIN:DAYLIGHT
TZOFFSETFROM:+0100
TZOFFSETTO:+0200
TZNAME:CEST
DTSTART:20270328T010000
END:DAYLIGHT
BEGIN:STANDARD
TZOFFSETFROM:+0200
TZOFFSETTO:+0100
TZNAME:CET
DTSTART:20271031T010000
END:STANDARD
END:VTIMEZONE
BEGIN:VEVENT
DTSTART;TZID=Europe/Oslo:20260526T190000
DTEND;TZID=Europe/Oslo:20260530T190000
DTSTAMP:20260423T215601
CREATED:20260422T072316Z
LAST-MODIFIED:20260422T072316Z
UID:8307-1779822000-1780167600@natf.no
SUMMARY:EIDSVOLL AMATØRTEATER: All in-cruisive
DESCRIPTION:Skip o’hoi  – Eidsvoll amatørteater presenterer showet: “All in-cruisive”! \n\n\n\nVi kaster loss\, og er igjen klare for å underholde dere med sketsjer\, sang og musikk. Denne gangen tar vi dere med til sjøs\, på cruise! Vi lover å sette alle kluter til\, og kan friste med raskt tempo\, morsomme tekster\, fengende sanger og også noe til ettertanke. \nShowet er for alle som liker å la seg underholde av musikk\, store shownummer og klassisk revy-humor. Vi lover godt båtvær og lite bølger\, så du kan trygt bli med selv om du er en landkrabbe. Vi ønsker deg velkommen om bord på “MS Panorama Tropicana”! \nForestillinger:\n26. mai kl 19:00\n28. mai kl 19:00\n29. mai kl 19:00\n30. mai kl 19:00
URL:https://natf.no/event/eidsvoll-amatorteater-all-in-cruisive/
LOCATION:Panorama Kulturhus
CATEGORIES:Teatergruppe forestillinger
ATTACH;FMTTYPE=image/webp:https://natf.no/wp-content/uploads/2026/04/ALLINCRUISIVE_PLAKAT_A3-kopi.webp
END:VEVENT
END:VCALENDAR